BEGIN:VCALENDAR
VERSION:2.0
PRODID:-//hacksw/handcal//NONSGML v1.0//EN
CALSCALE:GREGORIAN
BEGIN:VEVENT
LOCATION:
DESCRIPTION:Vous souhaitez créer des visuels et rendre vos contenus plus attractifs&nbsp;? AB Visibilité (experte du...
DTSTART:20240906T143000
DTEND:20240906T173000
SUMMARY:[Atelier gratuit] « Apprenez à utiliser Canva comme un pro »
URL;VALUE=URI:https://www.agora-hautegironde.fr/agenda/atelier-gratuit-apprenez-a-utiliser-canva-comme-un-pro/
DTSTAMP:20260421T083952
UID:69e737d886c67
END:VEVENT
END:VCALENDAR